BEGIN:VCALENDAR
VERSION:2.0
PRODID:-//Queensland Medical Women&#039;s Society - ECPv6.15.20//NONSGML v1.0//EN
CALSCALE:GREGORIAN
METHOD:PUBLISH
X-WR-CALNAME:Queensland Medical Women&#039;s Society
X-ORIGINAL-URL:https://qld.afmw.org.au
X-WR-CALDESC:Events for Queensland Medical Women&#039;s Society
REFRESH-INTERVAL;VALUE=DURATION:PT1H
X-Robots-Tag:noindex
X-PUBLISHED-TTL:PT1H
BEGIN:VTIMEZONE
TZID:Australia/Brisbane
BEGIN:STANDARD
TZOFFSETFROM:+1000
TZOFFSETTO:+1000
TZNAME:AEST
DTSTART:20220101T000000
END:STANDARD
END:VTIMEZONE
BEGIN:VEVENT
DTSTART;TZID=Australia/Brisbane:20230826T100000
DTEND;TZID=Australia/Brisbane:20230826T130000
DTSTAMP:20260426T103630
CREATED:20230804T061407Z
LAST-MODIFIED:20231122T091552Z
UID:10446-1693044000-1693054800@qld.afmw.org.au
SUMMARY:Walk & Talk Mentor Mixer
DESCRIPTION:Queensland Medical Women’s Society (QMWS) invites members and guests to join us on ‘Walk & Talk’\, a mentor mixer on the 26th of August 2023.  \nDetails\nDate/time: 26th of August 2023\, 10am-1pm\nLocation: Brisbane River\, South Bank\nFor more information\, please contact the QMWS Secretary on secretary@qmws.org.au. \nNot Yet A Member?\nMembership applications are welcome. To join QMWS\, please see our membership information and registration page.
URL:https://qld.afmw.org.au/event/walk-talk-mentor-mixer/
LOCATION:QLD
CATEGORIES:Upcoming Events
ATTACH;FMTTYPE=image/png:https://qld.afmw.org.au/wp-content/uploads/sites/7/2023/08/Green-and-White-Modern-Park-Walking-Insta-Post.png
END:VEVENT
END:VCALENDAR