BEGIN:VCALENDAR
VERSION:2.0
PRODID:-//Queensland Medical Women&#039;s Society - ECPv6.15.20//NONSGML v1.0//EN
CALSCALE:GREGORIAN
METHOD:PUBLISH
X-WR-CALNAME:Queensland Medical Women&#039;s Society
X-ORIGINAL-URL:https://qld.afmw.org.au
X-WR-CALDESC:Events for Queensland Medical Women&#039;s Society
REFRESH-INTERVAL;VALUE=DURATION:PT1H
X-Robots-Tag:noindex
X-PUBLISHED-TTL:PT1H
BEGIN:VTIMEZONE
TZID:Australia/Brisbane
BEGIN:STANDARD
TZOFFSETFROM:+1000
TZOFFSETTO:+1000
TZNAME:AEST
DTSTART:20230101T000000
END:STANDARD
END:VTIMEZONE
BEGIN:VEVENT
DTSTART;TZID=Australia/Brisbane:20240222T190000
DTEND;TZID=Australia/Brisbane:20240222T210000
DTSTAMP:20260425T201806
CREATED:20240120T040435Z
LAST-MODIFIED:20240324T021113Z
UID:10799-1708628400-1708635600@qld.afmw.org.au
SUMMARY:2024 AGM
DESCRIPTION:  \n\nQueensland Medical Women’s Society (QMWS) held our 2024 AGM on the Thursday\, 22nd February 2024 featuring our special guest speaker A/Prof Catherine McDougall. This event was proudly sponsored by the Avant Mutual Group Limited.\nAbout the speaker – A/Prof Catherine McDougall\n“Connection- the key to better care in a system under pressure” – Associate Professor Catherine McDougall \nAssociate Professor Catherine McDougall is the Chief Medical Officer of Queensland Health\, having commenced in the role in March 2023. \nA/Prof McDougall trained and worked as a Physiotherapist prior to undertaking her medical degree at the University of Queensland. After graduating medicine\, A/Prof McDougall went on to specialise in orthopaedics obtaining her Fellowship with the Royal Australasian College of Surgeons (FRACS) in 2013. A/Prof McDougall completed post-Fellowship training in knee surgery\, arthroplasty\, and revision arthroplasty at the Gold Coast University Hospital and in The Royal Edinburgh Infirmary\, UK. \nA/Prof McDougall continues to work clinically in Metro North Hospital and Health Service and has performed clinical leadership roles at The Prince Charles Hospital and was Director of Surgery at the Surgical Treatment and Rehabilitation Service (STARS) for 2 years until November 2022. She was the clinical lead for the Getting it Right the First Time program with Clinical Excellence Qld for 4 years from 2019\, is a Co-Chair of the Australian and New Zealand Hip Fracture Registry (ANZHFR)\, an Assistant Deputy Director of the Australian Orthopaedic Association National Joint Replacement Registry (AOANJRR) and is an Associate Professor with the University of Qld Medical School. A/Prof McDougall completed a graduate Certificate in Safety\, Quality\, Informatics and Leadership at Harvard University in 2021\, is a graduate of the Australian Institute of Company Directors and is a Reservist with the Australian Defence Force\, Air Force. \nThank you – Avant!\nWe are delighted to extend our deepest gratitude to Avant Mutual Group Limited for their generous sponsorship of the Queensland Medical Women’s Society Annual General Meeting. Their generosity has not only helped us in facilitating this event but also in our mission to empower and connect medical women across Queensland. Together\, we are making a positive impact on the medical landscape. \nMore info!\nFor questions/concerns\, contact us at secretary@qmws.org.au. \nMembership applications are welcome at any time. To join QMWS\, please see our membership information and registration page.
URL:https://qld.afmw.org.au/event/2024-agm/
LOCATION:United Services Club\, 183 Wickham Terrace\, Brisbane\, Queensland\, Australia
CATEGORIES:Past Events
ATTACH;FMTTYPE=image/png:https://qld.afmw.org.au/wp-content/uploads/sites/7/2024/01/Purple-Volunteer-Recruitment-Flyer-850-x-400-px-1.png
END:VEVENT
END:VCALENDAR