BEGIN:VCALENDAR
VERSION:2.0
PRODID:-//Queensland Medical Women&#039;s Society - ECPv6.15.20//NONSGML v1.0//EN
CALSCALE:GREGORIAN
METHOD:PUBLISH
X-ORIGINAL-URL:https://qld.afmw.org.au
X-WR-CALDESC:Events for Queensland Medical Women&#039;s Society
REFRESH-INTERVAL;VALUE=DURATION:PT1H
X-Robots-Tag:noindex
X-PUBLISHED-TTL:PT1H
BEGIN:VTIMEZONE
TZID:Australia/Brisbane
BEGIN:STANDARD
TZOFFSETFROM:+1000
TZOFFSETTO:+1000
TZNAME:AEST
DTSTART:20230101T000000
END:STANDARD
END:VTIMEZONE
BEGIN:VEVENT
DTSTART;TZID=Australia/Brisbane:20240713T143000
DTEND;TZID=Australia/Brisbane:20240713T173000
DTSTAMP:20260424T083431
CREATED:20240628T222917Z
LAST-MODIFIED:20240904T221135Z
UID:10893-1720881000-1720891800@qld.afmw.org.au
SUMMARY:Sunset Tea Mentoring 2024
DESCRIPTION:Sunset Tea Mentor Mixer \nDive into a Day of Empowerment at our upcoming Mentor Mixer. \nJoin us at our stunning venue\, The Collective at Palms Beach on Saturday the 13th of July 2024 (2.30-5.30pm)\, for an enriching experience tailored specifically to medical students and doctors in training. \nMentoring\, Connecting\, and Growth \nOur Palms Beach Mentor Mixer is an opportunity for aspiring and current medical professionals to connect\, learn\, and thrive in a relaxed and inspiring environment. Whether you’re navigating the complexities of medical school or seeking guidance as a resident\, this event is designed with your needs in mind. \nVenue: The Collective Palms Beach \nLocated at Palms Beach\, our venue offers the perfect backdrop for a day of mentorship\, networking\, and rejuvenation. \nMentors: Your Guides to Success \nGain invaluable insights from seasoned professionals who have walked the path before you. Our mentors are experienced doctors and medical professionals who are committed to supporting the next generation of healthcare leaders. From career advice to personal development tips\, they’re here to help you thrive. \nTicket Information \n\n$10 for non-QMWS member students/doctors in training\n$5 for QMWS member students/doctors in training\nComplimentary admission for mentors\n\nYour ticket includes access to all event activities. Food and drinks will be provided. Dietary requirements will be confirmed through ticketing for shared food platters\, and a drink tab will be provided for personalised beverage orders. \nDon’t miss your chance to be part of this transformative experience. Reserve your spot at our Sunset Tea Mentor Mixer today\, and take the next step towards realising your full potential in the world of medicine.
URL:https://qld.afmw.org.au/event/beachside-mentoring-2024/
LOCATION:The Collective\, 1128 Gold Coast Hwy\, Palm Beach\, Queensland\, 4221\, Australia
CATEGORIES:Past Events
ATTACH;FMTTYPE=image/png:https://qld.afmw.org.au/wp-content/uploads/sites/7/2024/05/peer-led-mentoring-announcement-instagram-post-850-x-400-px-4.png
END:VEVENT
END:VCALENDAR