BEGIN:VCALENDAR
VERSION:2.0
PRODID:-//Queensland Medical Women&#039;s Society - ECPv6.15.20//NONSGML v1.0//EN
CALSCALE:GREGORIAN
METHOD:PUBLISH
X-WR-CALNAME:Queensland Medical Women&#039;s Society
X-ORIGINAL-URL:https://qld.afmw.org.au
X-WR-CALDESC:Events for Queensland Medical Women&#039;s Society
REFRESH-INTERVAL;VALUE=DURATION:PT1H
X-Robots-Tag:noindex
X-PUBLISHED-TTL:PT1H
BEGIN:VTIMEZONE
TZID:Australia/Brisbane
BEGIN:STANDARD
TZOFFSETFROM:+1000
TZOFFSETTO:+1000
TZNAME:AEST
DTSTART:20230101T000000
END:STANDARD
END:VTIMEZONE
BEGIN:VEVENT
DTSTART;TZID=Australia/Brisbane:20241117T160000
DTEND;TZID=Australia/Brisbane:20241117T190000
DTSTAMP:20260423T180916
CREATED:20240828T101104Z
LAST-MODIFIED:20240828T101312Z
UID:11312-1731859200-1731870000@qld.afmw.org.au
SUMMARY:QMWS Christmas Party 2024
DESCRIPTION:Queensland Medical Women’s Society (QMWS) invites members and guests to join us on the 17th of November 2024 for our annual Christmas Party.  \n\nDetails\nJoin us for an evening of festive cheer and celebration at the 2024 Queensland Medical Women’s Society Christmas Party! This year’s event will be held at the beautiful Medley\, a riverside venue that offers a perfect blend of elegance and charm\, providing the ideal backdrop for our end-of-year gathering. \nDate: Sunday\, 17th November 2024\nTime: 4:00 PM – 7:00 PM\nLocation: Medley\, 62 Wharf Street\, Kangaroo Point\, QLD\nTicket Link: https://events.humanitix.com/qmws-christmas-party-2024 \nCome and enjoy a delightful evening with fellow members of the Queensland Medical Women’s Society. Reconnect with colleagues\, celebrate the year’s achievements\, and unwind as we usher in the festive season together. The evening will feature delicious canapés\, refreshing drinks\, and some special surprises to make the night truly memorable. \nDon’t miss this opportunity to celebrate with us in style—save the date\, and we look forward to seeing you there! \nAs the event details are further confirmed – this page will be updated. For questions/concerns\, contact us at secretary@qmws.org.au. \nNot Yet A Member?\nMembership applications are welcome. To join QMWS\, please see our membership information and registration page.
URL:https://qld.afmw.org.au/event/qmws-christmas-party-2024/
LOCATION:Medley Cafe\, 61 Wharf St\, Kangaroo Point\, Brisbane\, Queensland\, 4169\, Australia
CATEGORIES:Upcoming Events
ATTACH;FMTTYPE=image/png:https://qld.afmw.org.au/wp-content/uploads/sites/7/2024/08/Christmas-Meeting_Invite16x9.png
END:VEVENT
END:VCALENDAR