BEGIN:VCALENDAR
VERSION:2.0
PRODID:-//Queensland Medical Women&#039;s Society - ECPv6.15.20//NONSGML v1.0//EN
CALSCALE:GREGORIAN
METHOD:PUBLISH
X-ORIGINAL-URL:https://qld.afmw.org.au
X-WR-CALDESC:Events for Queensland Medical Women&#039;s Society
REFRESH-INTERVAL;VALUE=DURATION:PT1H
X-Robots-Tag:noindex
X-PUBLISHED-TTL:PT1H
BEGIN:VTIMEZONE
TZID:Australia/Brisbane
BEGIN:STANDARD
TZOFFSETFROM:+1000
TZOFFSETTO:+1000
TZNAME:AEST
DTSTART:20240101T000000
END:STANDARD
END:VTIMEZONE
BEGIN:VEVENT
DTSTART;TZID=Australia/Brisbane:20250718T070000
DTEND;TZID=Australia/Brisbane:20250718T100000
DTSTAMP:20260423T080032
CREATED:20250323T010600Z
LAST-MODIFIED:20250323T010600Z
UID:11555-1752822000-1752832800@qld.afmw.org.au
SUMMARY:AMA Queensland - Women in Medicine Breakfast - Townsville
DESCRIPTION:AMA Queensland Women in Medicine Breakfast – Townsville\nTheme: Accelerated action\nThe Queensland Medical Women’s Society is proud to support AMA Queensland’s event and stand alongside passionate voices dedicated to making a difference. \nJoin us as we celebrate women supporting women — and the male allies who stand beside us — as we work together towards gender equality in medicine. \nThis year’s breakfast embraces the 2025 International Women’s Day theme\, #AcceleratedAction\, sparking conversations about what gender equality looks like in medicine\, how women can champion each other\, and the pathways to leadership that empower women to bring others along with them. \nWhat to Expect: \n\nInspiring Stories: Hear from trailblazing women in medicine as they share their journeys and insights.\nPanel Discussion: Join AMA Queensland Vice President Dr. Emilia Dauway and local speakers for a thought-provoking discussion.\nConnection & Community: Network with like-minded professionals dedicated to advancing gender equality in healthcare.\n\nThis is more than an event — it’s a movement\, and one of AMA Queensland’s most highly anticipated gatherings. \nRegister Now \nWho Should Attend: \n\nWomen in medicine\nMedical students and junior doctors seeking mentors\nInterested stakeholders\nTownsville healthcare community\n\nWhy Attend: \n\nBe inspired by the remarkable achievements of women in medicine.\nTake part in a meaningful team-building experience outside your usual work environment.\nGain insights from expert speakers and fellow attendees.\nExplore mentorship opportunities\, whether you’re seeking guidance or offering it.\nCelebrate and support your colleagues\, both on stage and in the audience.\n\nCost: \n\nStudent/DIT member: $52\nMember: $66\nNon-member: $83\nStudent/DIT member – Table of 10: $465\nMember – Table of 10: $594\nNon-member – Table of 10: $743\n\nLet’s come together to accelerate action and create a more inclusive future in medicine. See you there!
URL:https://qld.afmw.org.au/event/amaqld-wimbreakfast-townsville2025/
LOCATION:The Ville\, Sir Leslie Thiess Drive\, Townsville\, Queensland\, Australia
CATEGORIES:Upcoming Events
END:VEVENT
BEGIN:VEVENT
DTSTART;TZID=Australia/Brisbane:20250814T183000
DTEND;TZID=Australia/Brisbane:20250814T210000
DTSTAMP:20260423T080032
CREATED:20250714T021738Z
LAST-MODIFIED:20250717T085426Z
UID:11685-1755196200-1755205200@qld.afmw.org.au
SUMMARY:2025 QMWS August Dinner
DESCRIPTION:Queensland Medical Women’s Society (QMWS) invites members and guests to join us on Thursday 14th of August 2025 for our next Dinner Meeting event. Our special guest speaker will be Dr Loyola Wills. \nDate/time: Thursday 14th August 2025\, 6.30pm for a 7pm start\nLocation: United Services Club\nTickets: via Humanitix\nDress: Smart Casual. \nSensing that Salt Water – The Journey Home\, A Spoken Yarn\nRetelling the story of Igilyawa “Custodians of Life” who travelled as a group to Country in 2024 \nDr Loyola Wills\nDr Loyola Wills\, is a medical woman from the Wagadagam Tribe\, situated at Mabuyag and Badu Lag in Zenadth Kes\, the Torres Strait Islands. Loyola is “first and foremost a mother of two kaazi (young children)”\, and training as a junior doctor (PGY2) on the Australian College of Rural and Remote Medicine (ACCRM) Program. She is part of the Torres Strait Islander Doctors’ group (Igilyawa “Custodians of Life”) who travelled as a group to Country in 2024. This was the subject of her moving key-note presentation at the Pacific Region Indigenous Doctors Conference in Adelaide as Purple Bush Medicine Leaves Recipient in 2024. She has a Bachelor of Arts\, before completing a Doctor of Medicine MD. \nProudly sponsored by MDA National\nThis event is proudly sponsored by MDA National\, Australia’s doctor-owned medical indemnity insurer with a century of trusted service. Since 1925\, MDA National has supported over 46\,000 medical practitioners with tailored professional and practice indemnity insurance\, as well as dedicated 24/7 medico-legal advice\, CPD-accredited education\, and confidential wellbeing support. Their specialised coverage spans all education and career stages—from medical students to seasoned practitioners—ensuring members can focus on patient care with confidence. We are honoured that MDA National’s commitment to empowering and protecting the medical community underpins our Dinner Meeting\, and we thank them for helping showcase the inspiring story of Dr Loyola Wills. \nNot Yet A Member?\nMembership applications are welcome. To join QMWS\, please see our membership information and registration page. \nFurther Information\nIn the event COVID-19 restrictions prevent us meeting in person\, the meeting will proceed as an online event using Zoom.\nFor more information\, please feel free to email the QMWS Secretary.
URL:https://qld.afmw.org.au/event/2025-qmws-august-dinner/
LOCATION:United Service Club\, 183 Wickham Terrace\, Spring Hill\, Queensland\, Australia
CATEGORIES:Upcoming Events
ATTACH;FMTTYPE=image/png:https://qld.afmw.org.au/wp-content/uploads/sites/7/2025/07/Red-and-White-Modern-online-Business-Conference-poster-16-x-9-cm-16-x-9-cm-1280-x-720-px-1.png
END:VEVENT
BEGIN:VEVENT
DTSTART;TZID=Australia/Brisbane:20250901T080000
DTEND;TZID=Australia/Brisbane:20250905T170000
DTSTAMP:20260423T080032
CREATED:20250323T011247Z
LAST-MODIFIED:20250323T011258Z
UID:11558-1756713600-1757091600@qld.afmw.org.au
SUMMARY:Jean Hailes Women’s Health Week
DESCRIPTION:Jean Hailes Women’s Health Week 2025\n1 to 5 September 2025\nAustralia’s largest event dedicated to the health and wellbeing of all women\, girls\, and gender-diverse people is back! Join over 300\,000 people across the country and millions more online for a week of vital health information\, inspiring stories\, and community connection. \nThe Queensland Medical Women’s Society is proud to support this event\, which aligns closely with our ethos of empowering women with knowledge and advocating for better health outcomes. \nWhat is Women’s Health Week? Every September\, Women’s Health Week brings people together in boardrooms\, tearooms\, and community centres to share evidence-based health information and spark important conversations. Whether you attend an event\, host your own\, or follow along online\, there’s something for everyone. \nWhat to Expect: \n\nDaily Themes: Explore key health topics like body awareness\, courageous conversations\, breaking down stigma\, understanding health differences\, and building healthier habits.\nIn-Person Events: Attend local gatherings to connect with health experts and your community.\nOnline Resources: Access webinars\, articles\, and videos anytime\, anywhere.\n\nDaily Program: \n\nMonday\, 1 September: Know Your Body — Understand what’s normal for you with info on health checks\, bowel health\, skin checks\, and self-examinations.\nTuesday\, 2 September: Courageous Conversations — Gain tools to confidently discuss menopause\, hormones\, PCOS\, and more with your doctor.\nWednesday\, 3 September: Shame and Stigma — Break the silence on taboo topics like bladder leakage\, painful sex\, STIs\, and vulval irritation.\nThursday\, 4 September: Point of Difference — Learn about conditions that affect women differently\, including heart health\, migraines\, and pelvic pain.\nFriday\, 5 September: Trust Your Gut — Dive into nutrition basics and build a healthier relationship with food.\n\nGet Involved: \n\nHost an Event: Bring your community together and share important health insights.\nAttend an Event: Find a local event and connect with others passionate about health.\nFollow Online: Access daily content and join the conversation on social media.\n\nFundraising: Support the Jean Hailes Foundation by raising funds during Women’s Health Week. Please note that fundraising for other organisations is not permitted during official events. \nThank You to Our Media Partner: A special thanks to Smoothfm for supporting Women’s Health Week 2024. \nLearn More: \n\nView 2024 Highlights\nFAQs\nRegister or Sign Up for Updates\n\nLet’s work together to empower every woman\, girl\, and gender-diverse person with the knowledge to make informed health choices. See you at Women’s Health Week 2025!
URL:https://qld.afmw.org.au/event/jean-hailes-womens-health-week/
LOCATION:QLD
CATEGORIES:Upcoming Events
ATTACH;FMTTYPE=image/jpeg:https://qld.afmw.org.au/wp-content/uploads/sites/7/2025/03/WHW24_HomePage_Banner.jpg
END:VEVENT
BEGIN:VEVENT
DTSTART;TZID=Australia/Brisbane:20251012T080000
DTEND;TZID=Australia/Brisbane:20251014T170000
DTSTAMP:20260423T080032
CREATED:20250323T020531Z
LAST-MODIFIED:20250323T020531Z
UID:11578-1760256000-1760461200@qld.afmw.org.au
SUMMARY:2025 MWIA Triennial Congress
DESCRIPTION:2025 MWIA Triennial Congress | 12-14 October\nEmpowering Medical Women Worldwide \nDate: 12-14 October 2025\nLocation: Hilton Grand Nile Hotel\, Cairo\, Egypt \nQueensland Medical Women’s Society (QMWS) is proud to support the 33rd Medical Women’s International Association (MWIA) Triennial Congress — a transformative event uniting medical professionals from across the globe to advance women’s health and equity. \nAbout the MWIA Congress\nSince its founding in 1919\, MWIA has worked tirelessly to empower women in medicine and improve health outcomes for women and girls worldwide. The 2025 Congress\, themed “One Humanity: Health Solutions through Our Partnerships\,” will feature: \n\nHigh-level speakers from across the globe\nSpecialized workshops and engaging breakout sessions\nInsightful panel discussions on the most pressing issues in women’s health\nNetworking opportunities with medical women from around the world\n\nScientific Program Tracks\n\nWomen’s Health Along the Life Cycle\nGender Equity\nWork-Life Balance\nViolence Against Women\nWomen’s Health and Climate Change\nLeadership & Professional Development\nReproductive Health\nDigital Health and Innovation\nWomen’s Mental Health\nSex and Gender-Specific Medicine\nMedical Women and Sustainable Development Goals\nNCD and Women’s Cancer\nLifestyle Medicine\n\nAbstract Submission Deadlines: \n\nSubmission Deadline: 15 May 2025\nAcknowledgment of Receipt: 30 May 2025\nNotification of Acceptance: 30 June 2025\nSubmit abstracts to: MWIA2025Scientific@gmail.com\n\nRegistration Details\n\n\n\nRegistration Type\nEarly Bird (Before 30 June 2025)\nRegular (After 30 June 2025)\nOnsite\n\n\nMWIA Member\n$500 USD\n$600 USD\n$700 USD\n\n\nNon-MWIA Member\n$650 USD\n$750 USD\n$800 USD\n\n\nAccompanying Person\n$300 USD\n$350 USD\n$400 USD\n\n\nGala Dinner\n$100 USD\n$100 USD\n$120 USD\n\n\n\nRegistration Includes: \n\nAccess to congress sessions\, posters\, workshops\, and exhibitions\nLunches and coffee breaks\nCongress kits and souvenirs\nReception cocktail\n(For MWIA Members) Access to MWIA Business Sessions\n\nRegister Now\nClick here to register & for more details\, visit the MWIA 2025 Congress website.
URL:https://qld.afmw.org.au/event/2025-mwia-triennial-congress/
LOCATION:Hilton Grand Nile Hotel\, Cairo\, Egypt
CATEGORIES:Upcoming Events
ATTACH;FMTTYPE=image/jpeg:https://qld.afmw.org.au/wp-content/uploads/sites/7/2025/03/mwia-poster-updated-final-scaled.jpg
END:VEVENT
BEGIN:VEVENT
DTSTART;TZID=Australia/Brisbane:20251117T080000
DTEND;TZID=Australia/Brisbane:20251117T170000
DTSTAMP:20260423T080032
CREATED:20250323T015549Z
LAST-MODIFIED:20250323T015549Z
UID:11575-1763366400-1763398800@qld.afmw.org.au
SUMMARY:Cervical Cancer Elimination Day of Action: Uniting for a Future Without Cervical Cancer
DESCRIPTION:Cervical Cancer Elimination Day of Action: Uniting for a Future Without Cervical Cancer\nDate: November 17\, 2025 \nThe Queensland Medical Women’s Society (QMWS) proudly joins the global movement to support the Cervical Cancer Elimination Day of Action\, commemorating the landmark launch of the World Health Organization (WHO)’s Global Strategy to Accelerate the Elimination of Cervical Cancer. This annual event unites advocates\, healthcare providers\, and communities to raise awareness and drive action towards eliminating this preventable disease. \nWhy Cervical Cancer Elimination Matters\nCervical cancer is the fourth most common cancer in women worldwide\, with an estimated 660\,000 new cases and 350\,000 deaths in 2022 alone. Almost all cases (99%) are linked to high-risk human papillomavirus (HPV) infection\, a common virus transmitted through sexual contact. Yet\, with effective prevention\, screening\, and treatment\, cervical cancer is one of the most preventable and treatable forms of cancer. \nAustralia Leading the Way\nResearch shows that Australia is on track to become the first country to eliminate cervical cancer as a public health problem by 2035\, thanks to the successful implementation of HPV vaccination and regular cervical screening programs. Since the introduction of the National Cervical Screening Program in 1991\, cervical cancer mortality rates have halved\, setting an inspiring example for global health initiatives. \nA Call to Action\nThe path to elimination requires a comprehensive approach: \n\nVaccination: Ensuring widespread access to HPV vaccination for girls and boys.\nScreening: Promoting regular cervical screening to detect and treat precancerous lesions.\nTreatment: Guaranteeing timely access to effective treatment and palliative care for women diagnosed with cervical cancer.\n\nNo woman should die from cervical cancer. By raising awareness\, supporting vaccination and screening\, and advocating for equitable healthcare access\, we can eliminate cervical cancer within a generation. \nJoin the Movement\nQMWS invites you to stand with us this November 17 as we amplify the call to action\, share knowledge\, and empower communities to make cervical cancer history. Together\, we can pave the way for a future where no woman is left behind.
URL:https://qld.afmw.org.au/event/cervical-cancer-elimination-day-of-action-uniting-for-a-future-without-cervical-cancer/
LOCATION:QLD
CATEGORIES:Upcoming Events
ATTACH;FMTTYPE=image/png:https://qld.afmw.org.au/wp-content/uploads/sites/7/2025/03/37.png
END:VEVENT
BEGIN:VEVENT
DTSTART;TZID=Australia/Brisbane:20251123T160000
DTEND;TZID=Australia/Brisbane:20251123T190000
DTSTAMP:20260423T080032
CREATED:20250815T030431Z
LAST-MODIFIED:20250929T202153Z
UID:11720-1763913600-1763924400@qld.afmw.org.au
SUMMARY:QMWS Christmas Party 2025
DESCRIPTION:Queensland Medical Women’s Society (QMWS) invites members and guests to join us on the 23rd of November 2025 for our annual Christmas Party.  \n\nDetails\n🎄✨ It’s beginning to look a lot like Christmas… QMWS style! ✨🎄 \nGet ready to swap your scrubs for sparkle and join us for an afternoon of festive fun at the 2025 Queensland Medical Women’s Society Christmas Party! We’re celebrating at Medley—a stunning riverside spot where elegance meets relaxed summer charm\, making it the perfect backdrop for our end-of-year get-together. \n📅 Date: Sunday\, 23rd November 2025🕓 Time: 4:00 PM – 7:00 PM📍 Location: Medley\, 62 Wharf Street\, Kangaroo Point\, QLD🎟 Tickets: Click here to book \nExpect bubbles\, bites\, and belly laughs as we reconnect with colleagues\, toast to 2025’s wins\, and embrace the festive season. Think delicious canapés\, refreshing drinks\, and a few delightful surprises along the way. \nWhether you’ve been naughty or nice (we won’t judge)\, you won’t want to miss this chance to celebrate in style with the incredible women of QMWS. \nSave the date\, gather your glitter\, and we’ll see you by the river! \nP.S. We’ll update this page as more details are confirmed. Questions? Email us at secretary@qmws.org.au. \n🌟 About Our Sponsor – Pavé Financial Solutions\nWe are delighted to welcome Pavé Financial Solutions as the proud sponsor of this year’s QMWS Christmas Party. \nWith over 100 years of combined expertise\, Pavé Financial Solutions experienced brokers provide tailored residential and commercial lending solutions\, working with more than 60 lenders to meet clients’ needs—from first-home buyers to business owners. Their commitment to aligning finance with short and long-term goals sets them apart. \nWe thank Pavé Financial Solutions for their generous support of QMWS and our mission to empower and connect women in medicine. \nNot Yet A Member?\nMembership applications are welcome. To join QMWS\, please see our membership information and registration page.
URL:https://qld.afmw.org.au/event/qmws-christmas-party-2025/
LOCATION:Medley Cafe\, 61 Wharf St\, Kangaroo Point\, Brisbane\, Queensland\, 4169\, Australia
CATEGORIES:Upcoming Events
ATTACH;FMTTYPE=image/png:https://qld.afmw.org.au/wp-content/uploads/sites/7/2025/08/Derek-1600x900-1.png
END:VEVENT
BEGIN:VEVENT
DTSTART;TZID=Australia/Brisbane:20260226T183000
DTEND;TZID=Australia/Brisbane:20260226T210000
DTSTAMP:20260423T080032
CREATED:20251215T210816Z
LAST-MODIFIED:20260126T022542Z
UID:11776-1772130600-1772139600@qld.afmw.org.au
SUMMARY:2026 QMWS AGM
DESCRIPTION:Queensland Medical Women’s Society (QMWS) invites members to join us on Thursday\, 26th February 2026 for our AGM which will include a dinner (for members and guests). \nJoin the Queensland Medical Women’s Society (QMWS) for an evening of connection and reflection at our Annual General Meeting (AGM) and dinner on Thursday\, 26th February 2026. This special event is open to members and guests\, offering an opportunity to celebrate our achievements\, discuss the future\, and enjoy a delightful dinner together. \nFeatured Speaker – Dr Cathryn Hester\, BE(Hons) MBBS MBA DCH FRACGP FAICD \nTopic: What’s your personal plimsoll line? \nDr. Cathryn Hester is a passionate and dedicated General Practitioner based in Ipswich\, Queensland. She co-founded Colleges Crossing Family Practice with her husband\, Dr. Tony Bayliss\, in 2015\, with the goal of providing high-quality\, primary care to their local community. \nDr. Hester holds a Bachelor of Engineering (Honours) in Medical Engineering\, a Bachelor of Medicine\, Bachelor of Surgery\, and a Diploma of Child Health. She is also a Fellow of the Royal Australian College of General Practitioners\, a Fellow of the Australian Institute of Company Directors and has achieved an executive MBA in recent years. \nOutside of her clinical work\, Dr. Hester is deeply involved in healthcare governance. She currently serves as a non-executive director for the West Moreton Hospital and Health Service and holds leadership roles within the Royal Australian College of General Practitioners\, including Chair of the Queensland Faculty and national board director. \nShe is passionate about supporting fellow GPs and advocating for the vital role of primary care in the Australian healthcare system. Through her work\, both in and out of the practice\, Dr. Hester continues to make a positive impact on the healthcare community in Queensland and beyond. \n2026 AGM Documents For Review: \n\nMinutes from the 2025 Annual General Meeting\n2025 Financial Report\n2025 President’s Report\n2025 AGM Agenda\n\nEvent Details \n\nDate/Time: Thursday\, 26th February 2026\, 6:30 PM\nLocation: United Services Club\, 183 Wickham Terrace\, Spring Hill\nTickets: $5 – $70\nDress Code: Smart Casual\n\nRSVP and Ticket Purchase\nReserve your spot and purchase tickets here \nThank you – Avant! \nWe are delighted to extend our deepest gratitude to Avant Mutual Group Limited for their generous sponsorship of the Queensland Medical Women’s Society 2026 Annual General Meeting. Their generosity has not only helped us in facilitating this event but also in our mission to empower and connect medical women across Queensland. Together\, we are making a positive impact on the medical landscape. \nNominations for the 2026 Committee\nQMWS is seeking enthusiastic female doctors from all specialties and levels of experience to join our 2026 committee. This is a fantastic opportunity to contribute to the society and help shape our future initiatives. Submit your nomination here. \nNot Yet a Member?\nWe warmly welcome new members to join QMWS. For more information on membership and how to register\, please visit our membership page. \nFor any inquiries\, please contact our secretary via email. \nWe look forward to seeing you there and working together to make 2026 an impactful year for QMWS!
URL:https://qld.afmw.org.au/event/2026-agm/
LOCATION:United Services Club\, 183 Wickham Terrace\, Brisbane\, Queensland\, Australia
CATEGORIES:Upcoming Events
ATTACH;FMTTYPE=image/png:https://qld.afmw.org.au/wp-content/uploads/sites/7/2025/12/Copy-of-Copy-of-Queensland-Medical-Womens-Society-Presentation-1.png
END:VEVENT
BEGIN:VEVENT
DTSTART;TZID=Australia/Brisbane:20260308T060000
DTEND;TZID=Australia/Brisbane:20260308T120000
DTSTAMP:20260423T080032
CREATED:20260302T111520Z
LAST-MODIFIED:20260302T111520Z
UID:11879-1772949600-1772971200@qld.afmw.org.au
SUMMARY:2026 International Women's Day Fun Run
DESCRIPTION:International Women’s Day Fun Run presented by Queensland X-Ray\nWe’re part of the International Women’s Day Fun Run!\nWe’re raising funds to support women with breast cancer now and into the future.  \nBy making a donation\, you can play a part in improving treatments and care for women diagnosed with breast cancer.   \nWhen you donate\, you’re helping to support counselling services and supply practical items like mastectomy bras and wigs after surgery and chemotherapy.   \nYou’ll also be supporting world leading research that focuses on improving survival rates and working towards a world where ALL women diagnosed with breast cancer survive.  \nUltimately\, you’ll help make life easier for women with breast cancer today and save more lives tomorrow.  \nAs little as $65 can make a profound impact and take some of the stress off women with breast cancer and their families. Please\, if you possibly can\, will you donate today? \nDate: March 8th 2026 \nDonate now by clicking HERE
URL:https://qld.afmw.org.au/event/2026-international-womens-day-fun-run/
LOCATION:Mater Hospital
ATTACH;FMTTYPE=image/png:https://qld.afmw.org.au/wp-content/uploads/sites/7/2026/03/1zmgkc3808y7.png
END:VEVENT
BEGIN:VEVENT
DTSTART;TZID=Australia/Brisbane:20260329T110000
DTEND;TZID=Australia/Brisbane:20260329T140000
DTSTAMP:20260423T080032
CREATED:20260223T043156Z
LAST-MODIFIED:20260223T043156Z
UID:11875-1774782000-1774792800@qld.afmw.org.au
SUMMARY:March Mentor Mixer
DESCRIPTION:Queensland Medical Women’s Society (QMWS) is excited for the latest in our mentor series – the March Mentor Mixer! \nThis is a wonderful opportunity for medical students\, junior doctors\, and senior doctors to engage with their peers and senior colleagues while supporting a meaningful purpose. Medicine can be a difficult profession to navigate\, we hope QMWS provides a safe space for our mentees to build supportive relations with their mentors and share their questions and concerns. \nWe are delighted to host this mixer at the Lovewell Cafe at Mount Gravatt. This café is a social enterprise that works with women who are rebuilding their lives. \nSave the date in your calendars and keep your eyes on this page for more details about our amazing mentors. \nSpots are limited so please get your tickets before they run out!
URL:https://qld.afmw.org.au/event/march-mentor-mixer/
LOCATION:Lovewell Cafe\, Mount Gravatt\, 185 Mount Gravatt Outlook Dr\, Mount Gravatt\, Queensland\, 4122\, Australia
CATEGORIES:Upcoming Events
ATTACH;FMTTYPE=image/png:https://qld.afmw.org.au/wp-content/uploads/sites/7/2026/02/Pink-Black-Playful-Minimalist-Womens-Business-Networking-Event-Poster-1600-x-900-px.png
END:VEVENT
BEGIN:VEVENT
DTSTART;TZID=Australia/Brisbane:20260520T183000
DTEND;TZID=Australia/Brisbane:20260520T203000
DTSTAMP:20260423T080032
CREATED:20260330T085814Z
LAST-MODIFIED:20260401T091618Z
UID:11994-1779301800-1779309000@qld.afmw.org.au
SUMMARY:2026 May Dinner Meeting
DESCRIPTION:Queensland Medical Women’s Society (QMWS) invites members and guests to join us on Wednesday 20th May 2026 for our upcoming Dinner Meeting. We are delighted to present an evening featuring Dr Teresa Nano\, Dr Susan Bell and Dr Sally Meade\, all highly experienced General Surgeons with expertise in Breast and Endocrine Surgery. \nDate/time: Wednesday 20th May 2026\, 6.30pm for a 7pm start\nLocation: The Summit\, 1/1012 Sir Samuel Griffith Dr\, Mount Coot-tha QLD 4066\nTickets: via Humanitix\nDress: Smart Casual. \nFeatured Speakers\nDr Teresa Nano\nDr Teresa Nano is an experienced Breast and Endocrine Surgeon with a comprehensive practice across all aspects of breast cancer care\, including reconstruction\, as well as thyroid and parathyroid surgery\, with a particular interest in minimally invasive techniques. Dr Nano graduated with Honours from the University of Queensland in 1990 and completed her general surgical training with the Royal Australasian College of Surgeons\, attaining Fellowship in 1999. She has also contributed to surgical education as a Senior Lecturer at the University of Queensland. She further sub-specialised through a dedicated two-year fellowship in Breast and Endocrine Surgery at the Royal Adelaide Hospital\, where she also undertook a Master of Surgery focused on breast cancer reconstruction. Dr Nano is actively involved in quality improvement and clinical governance\, contributing to the BreastSurgANZ Quality Audit\, and remains committed to maintaining the highest standards of patient care through ongoing professional development. She is currently a Visiting Medical Officer at Greenslopes Private Hospital and consults with BreastScreen Queensland and the Wesley Breast Clinic. She is also an Associate Clinical Lecturer at the University of Queensland. A passionate educator\, Dr Nano is actively involved in teaching medical students\, junior doctors and advanced surgical trainees\, and contributes to preparing candidates for the RACS Fellowship examinations. She has also presented widely at national meetings\, including the Australasian Society of Breast Disease. \nDr Susan Bell\nDr Susan Bell is a General\, Breast and Endocrine Surgeon with a special interest in oncoplastic breast surgery. Originally from the Netherlands\, she completed medical school in 2003 before relocating to Australia in 2006\, where she undertook General Surgical training in Queensland\, completing her Fellowship in 2014. She then completed two years of post-fellowship training with BreastSurgANZ\, gaining advanced experience in oncoplastic breast and endocrine surgery. Her fellowship training included positions at Mater Hospital Brisbane and the Royal Adelaide Hospital\, a leading centre in advanced oncoplastic and reconstructive breast surgery. Dr Bell currently holds a position at Ipswich Hospital and is a Senior Lecturer at the University of Queensland. She is also involved with BreastScreen Queensland and teaches on the ASSET surgical skills course. She is committed to delivering patient-centred care with a strong focus on individualised treatment and optimal cosmetic outcomes. \nDr Sally Meade\nDr Sally Meade is a General Surgeon with post-fellowship training in Breast and Endocrine Surgery and over 20 years of clinical experience. She completed her Fellowship with the Royal Australasian College of Surgeons in 2002 and undertook further subspecialty training in Breast and Endocrine Surgery at the Royal Brisbane and Women’s Hospital in 2004. Dr Meade spent nearly two decades practising in Townsville\, providing specialist surgical care to North Queensland before returning to Brisbane in 2022. She now works in both private and public settings\, including Greenslopes Private Hospital and Mater Hospital Brisbane. She remains actively involved in endocrine surgery at Townsville University Hospital and participates in emergency general surgery services. Dr Meade is a dedicated educator\, holding teaching roles with the University of Queensland and previously with James Cook University. She is also an examiner for the RACS General Surgery Fellowship examinations. Known for her thoughtful and patient-focused approach\, Dr Meade is committed to delivering high-quality\, multidisciplinary care tailored to each individual. \nSponsor\nThis event has been kindly sponsored by Queensland X-Ray\, whose expertise in diagnostic imaging plays a vital role in the early detection and management of breast cancer\, and whose ongoing support of medical education and professional development is greatly appreciated. \nNot Yet A Member?\nMembership applications are welcome. To join QMWS\, please see our membership information and registration page.
URL:https://qld.afmw.org.au/event/2026-qmws-may-dinner/
LOCATION:The Summit\, 1/1012 Sir Samuel Griffith Dr\, Mount Coot-tha\, QLD\, 4066\, Australia
CATEGORIES:Upcoming Events
ATTACH;FMTTYPE=image/png:https://qld.afmw.org.au/wp-content/uploads/sites/7/2026/03/White-Blue-ModernJob-Fair-Networking-Event-Poster-4.png
END:VEVENT
END:VCALENDAR