BEGIN:VCALENDAR
VERSION:2.0
PRODID:-//Queensland Medical Women&#039;s Society - ECPv6.15.20//NONSGML v1.0//EN
CALSCALE:GREGORIAN
METHOD:PUBLISH
X-WR-CALNAME:Queensland Medical Women&#039;s Society
X-ORIGINAL-URL:https://qld.afmw.org.au
X-WR-CALDESC:Events for Queensland Medical Women&#039;s Society
REFRESH-INTERVAL;VALUE=DURATION:PT1H
X-Robots-Tag:noindex
X-PUBLISHED-TTL:PT1H
BEGIN:VTIMEZONE
TZID:UTC
BEGIN:STANDARD
TZOFFSETFROM:+0000
TZOFFSETTO:+0000
TZNAME:UTC
DTSTART:20180101T000000
END:STANDARD
END:VTIMEZONE
BEGIN:VEVENT
DTSTART;VALUE=DATE:20190928
DTEND;VALUE=DATE:20190930
DTSTAMP:20260423T140344
CREATED:20190913T114024Z
LAST-MODIFIED:20220718T033208Z
UID:7439-1569628800-1569801599@qld.afmw.org.au
SUMMARY:Doctors' Wellness Retreat Weekend at Mission Beach
DESCRIPTION:Join us on September 28 and 29 at Mission beach for the Far North Queensland Lady Doctors’ Association’s annual conference. With a “Wellness” theme this year\, it will be a weekend of eco-immersive escape.   \nWellness comes in many forms\, so the conference aims to be holistic – with talks\, intelligent conversations\, debate\, laughter and levity\, and the time and space to connect with colleagues and with nature. There will be opportunity for individual pursuits – to greet the sunrise over adjacent Brookes Beach\, or relax\, or explore the rainforest walking trails and wildlife. A qualified Yoga Therapist will conduct a session on Sunday. \nFor the a copy of the conference program and more information on the accommodation\, click here. \nTo book your spot\, click here.
URL:https://qld.afmw.org.au/event/doctors-wellness/
LOCATION:Sanctuary Retreat\, Mission Beach\, 72 Holt Rd\, Garners Beach\, MISSION BEACH\, Queensland\, 4870\, Australia
CATEGORIES:Past Events
END:VEVENT
BEGIN:VEVENT
DTSTART;TZID=UTC:20190919T173000
DTEND;TZID=UTC:20190919T203000
DTSTAMP:20260423T140344
CREATED:20190913T180351Z
LAST-MODIFIED:20220718T033213Z
UID:7465-1568914200-1568925000@qld.afmw.org.au
SUMMARY:Brisbane Women's Club Movie Fundraiser
DESCRIPTION:
URL:https://qld.afmw.org.au/event/brisbane-womens-club-movie-fundraiser/
LOCATION:Palace Barracks Cinema\, 61 Petrie Terrace\, Paddington\, Queensland\, Australia
CATEGORIES:Past Events
END:VEVENT
BEGIN:VEVENT
DTSTART;VALUE=DATE:20190911
DTEND;VALUE=DATE:20190922
DTSTAMP:20260423T140344
CREATED:20190913T180014Z
LAST-MODIFIED:20220718T033218Z
UID:7460-1568160000-1569110399@qld.afmw.org.au
SUMMARY:Queensland Doctors' Health Programme Inaugural Art Exhibition - Connectedness
DESCRIPTION:
URL:https://qld.afmw.org.au/event/queensland-doctors-health-programme-inaugural-art-exhibition-connectedness/
LOCATION:Aspire Gallery\, 53 Kennedy Terrace\, Paddington\, Queensland\, Australia
CATEGORIES:Past Events
END:VEVENT
END:VCALENDAR