BEGIN:VCALENDAR
VERSION:2.0
PRODID:-//Queensland Medical Women&#039;s Society - ECPv6.15.20//NONSGML v1.0//EN
CALSCALE:GREGORIAN
METHOD:PUBLISH
X-WR-CALNAME:Queensland Medical Women&#039;s Society
X-ORIGINAL-URL:https://qld.afmw.org.au
X-WR-CALDESC:Events for Queensland Medical Women&#039;s Society
REFRESH-INTERVAL;VALUE=DURATION:PT1H
X-Robots-Tag:noindex
X-PUBLISHED-TTL:PT1H
BEGIN:VTIMEZONE
TZID:UTC
BEGIN:STANDARD
TZOFFSETFROM:+0000
TZOFFSETTO:+0000
TZNAME:UTC
DTSTART:20180101T000000
END:STANDARD
END:VTIMEZONE
BEGIN:VEVENT
DTSTART;TZID=UTC:20191201T170000
DTEND;TZID=UTC:20191201T200000
DTSTAMP:20260423T080136
CREATED:20191103T145603Z
LAST-MODIFIED:20191103T184932Z
UID:7594-1575219600-1575230400@qld.afmw.org.au
SUMMARY:2019 Christmas Party
DESCRIPTION:Celebrate a fantastic 2019 at Medley Cafe! \nJoin us for canapes and a drink overlooking the Brisbane River and Story Bridge.   \nMembers: $20.00\nStudents: $20.00\nNon-members: $40.00
URL:https://qld.afmw.org.au/event/2019-christmas-party/
LOCATION:Medley Cafe\, 61 Wharf St\, Kangaroo Point\, Brisbane\, Queensland\, 4169\, Australia
END:VEVENT
BEGIN:VEVENT
DTSTART;TZID=UTC:20191029T183000
DTEND;TZID=UTC:20191029T213000
DTSTAMP:20260423T080136
CREATED:20190913T174214Z
LAST-MODIFIED:20220718T033153Z
UID:7455-1572373800-1572384600@qld.afmw.org.au
SUMMARY:Music and Medicine QMWS Dinner
DESCRIPTION:[tatsu_section bg_color= “” bg_image= “” bg_repeat= “no-repeat” bg_attachment= ‘{“d”:”scroll”}’ bg_position= ‘{“d”:”top left”}’ bg_size= ‘{“d”:”cover”}’ bg_animation= “none” padding= ‘{“d”:”7px 0px 2px 0px”}’ margin= ‘{“d”:”0px 0px 0px 0px”}’ border= “0px 0px 0px 0px” border_color= “” bg_video= “0” bg_video_mp4_src= “” bg_video_ogg_src= “” bg_video_webm_src= “” bg_overlay= “0” overlay_color= “” full_screen= “0” enable_custom_height= “” custom_height= ‘{“d”:””}’ vertical_align= “center” top_divider= “none” top_divider_zindex= “9999” bottom_divider_zindex= “9999” bottom_divider= “none” top_divider_height= ‘{“d”:100}’ top_divider_position= “above” bottom_divider_height= ‘{“d”:100}’ bottom_divider_position= “below” top_divider_color= “#ffffff” bottom_divider_color= “#ffffff” invert_top_divider= “0” invert_bottom_divider= “0” flip_top_divider= “0” flip_bottom_divider= “0” section_id= “” section_class= “” section_title= “” offset_section= “” offset_value= “0” full_screen_header_scheme= “background–dark” z_index= “0” overflow= “” hide_in= “” key= “g78atia89699gce3”][tatsu_row full_width= “0” bg_color= “” border= ‘{“d”:”0px 0px 0px 0px”}’ border_color= “” no_margin_bottom= “0” equal_height_columns= “0” gutter= “medium” column_spacing= “” fullscreen_cols= “0” swap_cols= “0” padding= ‘{“d”:”0px 0px 0px 0px”}’ margin= ‘{“d”:”0px 0px”}’ row_id= “” row_class= “” hide_in= “” box_shadow= “0px 0px 0px 0px rgba(0\,0\,0\,0)” border_radius= “0” layout= “1/1” key= “g78atia8bjdqpogq”][tatsu_column bg_color= “” bg_image= “” bg_repeat= “no-repeat” bg_attachment= “scroll” bg_position= ‘{“d”:”top left”}’ bg_size= ‘{“d”:”cover”}’ padding= ‘{“d”:”0px 0px 0px 0px”}’ custom_margin= “0” margin= ‘{“d”:”0px 0px 50px 0px”}’ border= ‘{“d”:”0px 0px 0px 0px”}’ border_color= “” border_radius= “0” enable_box_shadow= “0” box_shadow_custom= “0px 0px 0px 0px rgba(0\,0\,0\,0)” bg_video= “0” bg_video_mp4_src= “” bg_video_ogg_src= “” bg_video_webm_src= “” bg_overlay= “0” overlay_color= “” animate_overlay= “none” link_overlay= “” vertical_align= “none” column_offset= “0” sticky= “0” offset= ‘{“d”:”0px 0px”}’ z_index= “0” top_divider= “none” bottom_divider= “none” top_divider_height= ‘{“d”:{“d”:”100″\,”m”:”0″}}’ bottom_divider_height= ‘{“d”:{“d”:”100″\,”m”:”0″}}’ top_divider_color= “#ffffff” bottom_divider_color= “#ffffff” flip_top_divider= “0” flip_bottom_divider= “0” left_divider= “none” left_divider_width= ‘{“d”:{“d”:”50″\,”m”:”0″}}’ left_divider_color= “#ffffff” invert_left_divider= “0” right_divider= “none” right_divider_width= ‘{“d”:{“d”:”50″\,”m”:”0″}}’ right_divider_color= “#ffffff” invert_right_divider= “0” column_parallax= “0” top_divider_zindex= “9999” bottom_divider_zindex= “9999” right_divider_zindex= “9999” left_divider_zindex= “9999” column_width= ‘{“d”:”100″}’ overflow= “” column_mobile_spacing= “0” animate= “0” animation_type= “fadeIn” animation_delay= “0” image_hover_effect= “none” column_hover_effect= “none” hover_box_shadow= “0px 0px 0px 0px rgba(0\,0\,0\,0)” col_id= “” column_class= “” hide_in= “” layout= “1/1” key= “g78atia8dm86hi2e”][tatsu_text bg_color= “” max_width= ‘{“d”:”100″}’ wrap_alignment= “center” text_alignment= ‘{“d”:”left”}’ animate= “” animation_type= “fadeIn” animation_delay= “0” margin= ‘{“d”:”0px 0px 30px 0px”}’ box_shadow= “0px 0px 0px 0px rgba(0\,0\,0\,0)” padding= ‘{“d”:”0px 0px 0px 0px”}’ border_radius= “0” key= “g78atia8fi4rlyyj”] \nMusic and Medicine \n[/tatsu_text][/tatsu_column][/tatsu_row][/tatsu_section][tatsu_section bg_color= “” bg_image= “https://qld.afmw.org.au/wp-content/uploads/sites/7/2019/09/Slide1.png” bg_repeat= “no-repeat” bg_attachment= ‘{“d”:”scroll”}’ bg_position= ‘{“d”:”center center”}’ bg_size= ‘{“d”:”initial”}’ bg_animation= “tatsu-parallax” padding= ‘{“d”:”0px 0px 0250px 0px”}’ margin= ‘{“d”:”0px 0px 0px 0px”}’ border= “0px 0px 0px 0px” border_color= “” bg_video= “0” bg_video_mp4_src= “” bg_video_ogg_src= “” bg_video_webm_src= “” bg_overlay= “0” overlay_color= “” full_screen= “0” enable_custom_height= “” custom_height= ‘{“d”:””}’ vertical_align= “center” top_divider= “none” top_divider_zindex= “9999” bottom_divider_zindex= “9999” bottom_divider= “none” top_divider_height= ‘{“d”:”100″}’ top_divider_position= “above” bottom_divider_height= ‘{“d”:”100″}’ bottom_divider_position= “below” top_divider_color= “#ffffff” bottom_divider_color= “#ffffff” invert_top_divider= “0” invert_bottom_divider= “0” flip_top_divider= “0” flip_bottom_divider= “0” section_id= “” section_class= “” section_title= “” offset_section= “” offset_value= “0px” full_screen_header_scheme= “background–dark” z_index= “0” overflow= “” hide_in= “” key= “ryZ1iccEwS”][tatsu_row full_width= “0” bg_color= “” border= ‘{“d”:”0px 0px 0px 0px”}’ border_color= “” no_margin_bottom= “0” equal_height_columns= “0” gutter= “medium” column_spacing= “px” fullscreen_cols= “0” swap_cols= “0” padding= ‘{“d”:”0px 0px 0px 0px”}’ margin= ‘{“d”:”0px 0px”}’ row_id= “” row_class= “” hide_in= “” box_shadow= “0px 0px 0px 0px rgba(0\,0\,0\,0)” border_radius= “0px” layout= “1/1” key= “Hyx1s95EDr”][tatsu_column bg_color= “” bg_image= “” bg_repeat= “no-repeat” bg_attachment= “scroll” bg_position= ‘{“d”:”top left”}’ bg_size= ‘{“d”:”cover”}’ padding= ‘{“d”:”0px 0px 0px 0px”}’ custom_margin= “0” margin= ‘{“d”:”0px 0px 50px 0px”}’ border= ‘{“d”:”0px 0px 0px 0px”}’ border_color= “” border_radius= “0px” enable_box_shadow= “0” box_shadow_custom= “0px 0px 0px 0px rgba(0\,0\,0\,0)” bg_video= “0” bg_video_mp4_src= “” bg_video_ogg_src= “” bg_video_webm_src= “” bg_overlay= “0” overlay_color= “” animate_overlay= “none” link_overlay= “” vertical_align= “none” column_offset= “0” sticky= “0” offset= ‘{“d”:”0px 0px”}’ z_index= “0” top_divider= “none” bottom_divider= “none” top_divider_height= ‘{“d”:”100″\,”m”:”0″}’ bottom_divider_height= ‘{“d”:”100″\,”m”:”0″}’ top_divider_color= “#ffffff” bottom_divider_color= “#ffffff” flip_top_divider= “0” flip_bottom_divider= “0” left_divider= “none” left_divider_width= ‘{“d”:”50″\,”m”:”0″}’ left_divider_color= “#ffffff” invert_left_divider= “0” right_divider= “none” right_divider_width= ‘{“d”:”50″\,”m”:”0″}’ right_divider_color= “#ffffff” invert_right_divider= “0” column_parallax= “0” top_divider_zindex= “9999” bottom_divider_zindex= “9999” right_divider_zindex= “9999” left_divider_zindex= “9999” column_width= ‘{“d”:100\,”l”:100\,”t”:100\,”m”:100}’ overflow= “” column_mobile_spacing= “0” animate= “0” animation_type= “fadeIn” animation_delay= “0” image_hover_effect= “none” column_hover_effect= “none” hover_box_shadow= “0px 0px 0px 0px rgba(0\,0\,0\,0)” col_id= “” column_class= “” hide_in= “” layout= “1/1” key= “BJ1sq94PH”][tatsu_code id= “” class= “” key= “Skd65cEwr”]Register now[/tatsu_code][/tatsu_column][/tatsu_row][/tatsu_section][tatsu_section bg_color= “” bg_image= “” bg_repeat= “no-repeat” bg_attachment= ‘{“d”:”scroll”}’ bg_position= ‘{“d”:”top left”}’ bg_size= ‘{“d”:”cover”}’ bg_animation= “none” padding= ‘{“d”:”90px 0px 90px 0px”}’ margin= ‘{“d”:”0px 0px 0px 0px”}’ border= “0px 0px 0px 0px” border_color= “” bg_video= “0” bg_video_mp4_src= “” bg_video_ogg_src= “” bg_video_webm_src= “” bg_overlay= “0” overlay_color= “” full_screen= “0” enable_custom_height= “” custom_height= ‘{“d”:””}’ vertical_align= “center” top_divider= “none” top_divider_zindex= “9999” bottom_divider_zindex= “9999” bottom_divider= “none” top_divider_height= ‘{“d”:”100″}’ top_divider_position= “above” bottom_divider_height= ‘{“d”:”100″}’ bottom_divider_position= “below” top_divider_color= “#ffffff” bottom_divider_color= “#ffffff” invert_top_divider= “0” invert_bottom_divider= “0” flip_top_divider= “0” flip_bottom_divider= “0” section_id= “” section_class= “” section_title= “” offset_section= “” offset_value= “0px” full_screen_header_scheme= “background–dark” z_index= “0” overflow= “” hide_in= “” key= “HyZZtn9EPH”][tatsu_row full_width= “0” bg_color= “” border= ‘{“d”:”0px 0px 0px 0px”}’ border_color= “” no_margin_bottom= “0” equal_height_columns= “0” gutter= “medium” column_spacing= “px” fullscreen_cols= “0” swap_cols= “0” padding= ‘{“d”:”0px 0px 0px 0px”}’ margin= ‘{“d”:”0px 0px”}’ row_id= “” row_class= “” hide_in= “” box_shadow= “0px 0px 0px 0px rgba(0\,0\,0\,0)” border_radius= “0px” layout= “1/1” key= “SkeWKncEDS”][tatsu_column bg_color= “” bg_image= “” bg_repeat= “no-repeat” bg_attachment= “scroll” bg_position= ‘{“d”:”top left”}’ bg_size= ‘{“d”:”cover”}’ padding= ‘{“d”:”0px 0px 0px 0px”}’ custom_margin= “0” margin= ‘{“d”:”0px 0px 50px 0px”}’ border= ‘{“d”:”0px 0px 0px 0px”}’ border_color= “” border_radius= “0px” enable_box_shadow= “0” box_shadow_custom= “0px 0px 0px 0px rgba(0\,0\,0\,0)” bg_video= “0” bg_video_mp4_src= “” bg_video_ogg_src= “” bg_video_webm_src= “” bg_overlay= “0” overlay_color= “” animate_overlay= “none” link_overlay= “” vertical_align= “none” column_offset= “0” sticky= “0” offset= ‘{“d”:”0px 0px”}’ z_index= “0” top_divider= “none” bottom_divider= “none” top_divider_height= ‘{“d”:”100″\,”m”:”0″}’ bottom_divider_height= ‘{“d”:”100″\,”m”:”0″}’ top_divider_color= “#ffffff” bottom_divider_color= “#ffffff” flip_top_divider= “0” flip_bottom_divider= “0” left_divider= “none” left_divider_width= ‘{“d”:”50″\,”m”:”0″}’ left_divider_color= “#ffffff” invert_left_divider= “0” right_divider= “none” right_divider_width= ‘{“d”:”50″\,”m”:”0″}’ right_divider_color= “#ffffff” invert_right_divider= “0” column_parallax= “0” top_divider_zindex= “9999” bottom_divider_zindex= “9999” right_divider_zindex= “9999” left_divider_zindex= “9999” column_width= ‘{“d”:100\,”l”:100\,”t”:100\,”m”:100}’ overflow= “” column_mobile_spacing= “0” animate= “0” animation_type= “fadeIn” animation_delay= “0” image_hover_effect= “none” column_hover_effect= “none” hover_box_shadow= “0px 0px 0px 0px rgba(0\,0\,0\,0)” col_id= “” column_class= “” hide_in= “” layout= “1/1” key= “rJbFh5Nvr”][tatsu_text bg_color= “” max_width= ‘{“d”:”100″}’ wrap_alignment= “center” text_alignment= ‘{“d”:”left”}’ animate= “” animation_type= “fadeIn” animation_delay= “0” margin= ‘{“d”:”0px 0px 30px 0px”}’ box_shadow= “0px 0px 0px 0px rgba(0\,0\,0\,0)” padding= ‘{“d”:”0px 0px 0px 0px”}’ border_radius= “0px” key= “Hyrt3cNvS”] \nPlease join QMWS for our fourth and final dinner meeting for 2019\, on the topic ‘Music meets Medicine’. \nSpecial guests include Drs Di Khursandi\, Lily Vrtik\, and Esther Andrews. \n[/tatsu_text][/tatsu_column][/tatsu_row][/tatsu_section]
URL:https://qld.afmw.org.au/event/music-and-medicine/
LOCATION:United Services Club\, 183 Wickham Terrace\, Brisbane\, Queensland\, Australia
CATEGORIES:Past Events
ORGANIZER;CN="www.qld.home.afmw.org.au":MAILTO:secretary.qmws@gmail.com
END:VEVENT
BEGIN:VEVENT
DTSTART;TZID=UTC:20191017T070000
DTEND;TZID=UTC:20191017T090000
DTSTAMP:20260423T080136
CREATED:20190913T194657Z
LAST-MODIFIED:20220718T033159Z
UID:7491-1571295600-1571302800@qld.afmw.org.au
SUMMARY:AMAQ Women in Medicine Breakfast
DESCRIPTION:Please register your interest to join the QMWS Table at this event with the QMWS secretary using this email link so we can start collecting names for the AMA Breakfast.
URL:https://qld.afmw.org.au/event/amaq-women-in-medicine-breakfast/
LOCATION:Victoria Park Golf Club\, 309 Herston Rd\, Herston\, Qld\, Australia
CATEGORIES:Past Events
END:VEVENT
BEGIN:VEVENT
DTSTART;TZID=UTC:20191010T094500
DTEND;TZID=UTC:20191010T140000
DTSTAMP:20260423T080136
CREATED:20190913T171219Z
LAST-MODIFIED:20220718T033203Z
UID:7446-1570700700-1570716000@qld.afmw.org.au
SUMMARY:Celebrate QMWS' 90th Anniversary at the NCWQ Bursary High Tea
DESCRIPTION:Join QMWS committee and members at the National Council of Women Queensland’s annual Bursaries Fund-raising Morning Tea and Fashion Parade. This year will recognise the 90th Anniversary of the Queensland Medical Women’s Society. \nPlease come along\, hear from bursary recipients and enable us to continue the program – to enable\, educate and empower women. \nFurther programme details for the NCWQ Bursary High Tea – to celebrate Queensland Medical Women and the 90th Anniversary of QMWS  – will be forthcoming soon. \nIn the mean time\, QMWS welcomes and encourages any contributions (photos\, vignettes\, suggestions and stories about Queensland medical women) for the for the programme. \nPlease forward these to QMWS Secretary by email using this link. \nRSVP using this NCWQ High Tea Response Form.
URL:https://qld.afmw.org.au/event/celebrate-qmws-90th-anniversary-with-the-ncwq/
LOCATION:Tattersall’s Club\, 215 Queen Street\, Brisbane\, Queensland\, Australia
CATEGORIES:Past Events
END:VEVENT
BEGIN:VEVENT
DTSTART;VALUE=DATE:20190928
DTEND;VALUE=DATE:20190930
DTSTAMP:20260423T080136
CREATED:20190913T114024Z
LAST-MODIFIED:20220718T033208Z
UID:7439-1569628800-1569801599@qld.afmw.org.au
SUMMARY:Doctors' Wellness Retreat Weekend at Mission Beach
DESCRIPTION:Join us on September 28 and 29 at Mission beach for the Far North Queensland Lady Doctors’ Association’s annual conference. With a “Wellness” theme this year\, it will be a weekend of eco-immersive escape.   \nWellness comes in many forms\, so the conference aims to be holistic – with talks\, intelligent conversations\, debate\, laughter and levity\, and the time and space to connect with colleagues and with nature. There will be opportunity for individual pursuits – to greet the sunrise over adjacent Brookes Beach\, or relax\, or explore the rainforest walking trails and wildlife. A qualified Yoga Therapist will conduct a session on Sunday. \nFor the a copy of the conference program and more information on the accommodation\, click here. \nTo book your spot\, click here.
URL:https://qld.afmw.org.au/event/doctors-wellness/
LOCATION:Sanctuary Retreat\, Mission Beach\, 72 Holt Rd\, Garners Beach\, MISSION BEACH\, Queensland\, 4870\, Australia
CATEGORIES:Past Events
END:VEVENT
BEGIN:VEVENT
DTSTART;TZID=UTC:20190919T173000
DTEND;TZID=UTC:20190919T203000
DTSTAMP:20260423T080136
CREATED:20190913T180351Z
LAST-MODIFIED:20220718T033213Z
UID:7465-1568914200-1568925000@qld.afmw.org.au
SUMMARY:Brisbane Women's Club Movie Fundraiser
DESCRIPTION:
URL:https://qld.afmw.org.au/event/brisbane-womens-club-movie-fundraiser/
LOCATION:Palace Barracks Cinema\, 61 Petrie Terrace\, Paddington\, Queensland\, Australia
CATEGORIES:Past Events
END:VEVENT
BEGIN:VEVENT
DTSTART;VALUE=DATE:20190911
DTEND;VALUE=DATE:20190922
DTSTAMP:20260423T080136
CREATED:20190913T180014Z
LAST-MODIFIED:20220718T033218Z
UID:7460-1568160000-1569110399@qld.afmw.org.au
SUMMARY:Queensland Doctors' Health Programme Inaugural Art Exhibition - Connectedness
DESCRIPTION:
URL:https://qld.afmw.org.au/event/queensland-doctors-health-programme-inaugural-art-exhibition-connectedness/
LOCATION:Aspire Gallery\, 53 Kennedy Terrace\, Paddington\, Queensland\, Australia
CATEGORIES:Past Events
END:VEVENT
END:VCALENDAR