BEGIN:VCALENDAR
VERSION:2.0
PRODID:-//Queensland Medical Women&#039;s Society - ECPv6.15.20//NONSGML v1.0//EN
CALSCALE:GREGORIAN
METHOD:PUBLISH
X-WR-CALNAME:Queensland Medical Women&#039;s Society
X-ORIGINAL-URL:https://qld.afmw.org.au
X-WR-CALDESC:Events for Queensland Medical Women&#039;s Society
REFRESH-INTERVAL;VALUE=DURATION:PT1H
X-Robots-Tag:noindex
X-PUBLISHED-TTL:PT1H
BEGIN:VTIMEZONE
TZID:Australia/Brisbane
BEGIN:STANDARD
TZOFFSETFROM:+1000
TZOFFSETTO:+1000
TZNAME:AEST
DTSTART:20220101T000000
END:STANDARD
END:VTIMEZONE
BEGIN:VEVENT
DTSTART;TZID=Australia/Brisbane:20231126T160000
DTEND;TZID=Australia/Brisbane:20231126T190000
DTSTAMP:20260426T022707
CREATED:20231018T234337Z
LAST-MODIFIED:20231031T120446Z
UID:10581-1701014400-1701025200@qld.afmw.org.au
SUMMARY:2023 QMWS Christmas Party
DESCRIPTION:Queensland Medical Women’s Society (QMWS) invites members and guests to join us on the 26th of November 2023 for annual Christmas Party.  \n\nDetails\nDate: November 26th\, 2023 \nTime: 4:00 PM – 7:00 PM \nVenue: Medley Kangaroo Point \nTicket Link : https://events.humanitix.com/qmws-christmas-party-2023 \nMembers: $35 \nNon-Members: $50 \nStudents: $20 \nThank you – Queensland XRay!\nWe are delighted to extend our deepest gratitude to Queensland XRay for their generous sponsorship of the Queensland Medical Women’s Society Christmas Party. Their generosity has not only helped us in facilitating this event but also in our mission to empower and connect medical women across Queensland. Together\, we are making a positive impact on the medical landscape. \nMore info!\nAs the event details are further confirmed – this page will be update. \nFor questions/concerns\, contact us at secretary@qmws.org.au \nDon’t miss out on this wonderful opportunity to celebrate the holiday season with your fellow medical professionals. Join us at the Queensland Medical Women’s Society Christmas Cocktail Party for a night of laughter\, camaraderie\, and spreading holiday cheer! \nLet’s make this Christmas season extra special together. See you there! \nNot Yet A Member?\nMembership applications are welcome. To join QMWS\, please see our membership information and registration page.
URL:https://qld.afmw.org.au/event/2023-qmws-christmas-party/
LOCATION:Medley Cafe\, 61 Wharf St\, Kangaroo Point\, Brisbane\, Queensland\, 4169\, Australia
CATEGORIES:Upcoming Events
ATTACH;FMTTYPE=image/png:https://qld.afmw.org.au/wp-content/uploads/sites/7/2023/09/TICKET-PRICES-Members-50-Non-members-70-Students-30-1.png
END:VEVENT
END:VCALENDAR