BEGIN:VCALENDAR
VERSION:2.0
PRODID:-//Queensland Medical Women&#039;s Society - ECPv6.15.20//NONSGML v1.0//EN
CALSCALE:GREGORIAN
METHOD:PUBLISH
X-ORIGINAL-URL:https://qld.afmw.org.au
X-WR-CALDESC:Events for Queensland Medical Women&#039;s Society
REFRESH-INTERVAL;VALUE=DURATION:PT1H
X-Robots-Tag:noindex
X-PUBLISHED-TTL:PT1H
BEGIN:VTIMEZONE
TZID:Australia/Brisbane
BEGIN:STANDARD
TZOFFSETFROM:+1000
TZOFFSETTO:+1000
TZNAME:AEST
DTSTART:20230101T000000
END:STANDARD
END:VTIMEZONE
BEGIN:VEVENT
DTSTART;TZID=Australia/Brisbane:20240829T183000
DTEND;TZID=Australia/Brisbane:20240829T203000
DTSTAMP:20260424T030644
CREATED:20240627T214838Z
LAST-MODIFIED:20240904T221100Z
UID:11045-1724956200-1724963400@qld.afmw.org.au
SUMMARY:QMWS 2024 August Dinner: Medical Women- Balancing Career and Fertility
DESCRIPTION:Queensland Medical Women’s Society (QMWS) invites members and guests to join us on Thursday the 29th of August 2024 for our next Dinner Meeting event. Our special guest speaker will be Dr Clare Boothroyd. \nDetails\nDate/time: Thursday 29th August 2024\, 6.30pm for a 7pm start\nLocation: United Services Club\nTickets: via Humanitix\nDress: Smart Casual. \nAbout The Guest Speaker\nTopic: Medical Women: Balancing Career and Fertility \nDr  Clare Boothroyd \n \nClare Boothroyd completed specialisation internal medicine (endocrinology) and obstetrics and gynaecology and holds  the subspecialty  certificate of reproductive endocrinology and infertility (CREI).  She is  President of  ASPIRE and  past chair of the Education Committee of ASPIRE.   She is immediate past President of Australian and New Zealand Society of Specialists in Reproductive Endocrinology and Infertility. She is a past  member of the Board of the Fertility Society of Australia  and New Zealand (FSANZ previously FSA)  She has been an executive of  IVF Directors group of the FSA and the nominated  representative of the IVF Directors on the Reproductive Technology and Accreditation Committee (RTAC) . She is past chair of training and accreditation committee in REI of the RANZCOG and is immediate past director of the oral examination in CREI.  She completed an executive MBA  in 2015.  She established an independently owned IVF unit in 2008\, Care Fertility of which she is Medical Director. \nThank you to our Sponsor!\nThank you\, MIPS Indemnity Insurance\, for championing women in medicine and making this inspiring event a reality! \nNot Yet A Member?\nMembership applications are welcome. To join QMWS\, please see our membership information and registration page. \nFurther Information\nIn the event COVID-19 restrictions prevent us meeting in person\, the meeting will proceed as an online event using Zoom.\nFor more information\, please feel free to email the QMWS Secretary.
URL:https://qld.afmw.org.au/event/qmws-2024-august-dinner-fertility-fact-fiction/
LOCATION:United Service Club\, 183 Wickham Terrace\, Spring Hill\, Queensland\, Australia
CATEGORIES:Past Events
ATTACH;FMTTYPE=image/png:https://qld.afmw.org.au/wp-content/uploads/sites/7/2024/06/Purple-Volunteer-Recruitment-Flyer-15-1.png
END:VEVENT
END:VCALENDAR