BEGIN:VCALENDAR
VERSION:2.0
PRODID:-//Queensland Medical Women&#039;s Society - ECPv6.15.20//NONSGML v1.0//EN
CALSCALE:GREGORIAN
METHOD:PUBLISH
X-WR-CALNAME:Queensland Medical Women&#039;s Society
X-ORIGINAL-URL:https://qld.afmw.org.au
X-WR-CALDESC:Events for Queensland Medical Women&#039;s Society
REFRESH-INTERVAL;VALUE=DURATION:PT1H
X-Robots-Tag:noindex
X-PUBLISHED-TTL:PT1H
BEGIN:VTIMEZONE
TZID:Australia/Brisbane
BEGIN:STANDARD
TZOFFSETFROM:+1000
TZOFFSETTO:+1000
TZNAME:AEST
DTSTART:20240101T000000
END:STANDARD
END:VTIMEZONE
BEGIN:VEVENT
DTSTART;TZID=Australia/Brisbane:20250508T080000
DTEND;TZID=Australia/Brisbane:20250508T170000
DTSTAMP:20260423T031854
CREATED:20250323T013432Z
LAST-MODIFIED:20250323T013547Z
UID:11565-1746691200-1746723600@qld.afmw.org.au
SUMMARY:World Ovarian Cancer Day 2025
DESCRIPTION:World Ovarian Cancer Day — Raising Awareness TogetherDate: May 8\, 2025 \nThe Queensland Medical Women’s Society (QMWS) proudly supports World Ovarian Cancer Day — a global initiative to raise awareness about ovarian cancer\, the most lethal of the female cancers. With no reliable screening test and symptoms often mistaken for less serious conditions\, ovarian cancer is frequently diagnosed at an advanced stage\, making early awareness and education crucial. \nQMWS is committed to amplifying awareness and advocating for improved research and funding. We’ll be supporting local events and activities in recognition of this important day — stay tuned for event details coming soon. \nLet’s come together to stand in solidarity with patients\, families\, and healthcare professionals working tirelessly in the fight against ovarian cancer. \nEstablished in 2013 by a group of leaders from ovarian cancer advocacy organizations around the world\, May 8 – World Ovarian Cancer Day\, is the one day of the year we globally raise our voices in solidarity in the fight against ovarian cancer. \nWhile the World Ovarian Cancer Coalition works on many fronts\, World Ovarian Cancer Day is our flagship awareness-raising initiative\, and is the key date in our calendar. Supported by over 200 organizations from around the world\, our social media reach grows exponentially every year. Our partner organizations\, as small as kitchen table-based patient advocacy groups in rural communities\, to national healthcare associations based in major metropolitan areas\, all come together as one to raise awareness about the disease. \nOver the first twelve years\, World Ovarian Cancer Day has grown from its humble start as an idea around a table to an international movement\, in over 50 languages and activity in 95% of the world’s countries. WOCD2024 saw an increase of followers across all channels\, and above-average engagement on all social media posts. Facebook and Instagram saw significant growth in reach over 2023\, with an amazing 227% growth on Instagram alone. \nOverview\n‘Ovarian cancer’ is not a singular diagnosis\, rather it is an umbrella term for a multitude of different types of cancer that affect the ovaries\, fallopian tubes\, and the primary peritoneal cavity. It is estimated that there are more than 30 different types of ovarian cancer\, and there is a very wide variation in incidence and outlook in terms of the different types. \nOvarian cancer is the most lethal of the female cancers for which there is no reliable screening test\, and every person assigned female at birth is at risk.  With delays in diagnoses due to this lack of screening and because symptoms are often confused with other\, less severe\, illness\, most people are diagnosed once the cancer has already spread\, making it more difficult to treat. While every woman is at risk\, ovarian cancer is overlooked and underfunded.
URL:https://qld.afmw.org.au/event/world-ovarian-cancer-day-2025/
LOCATION:QLD
CATEGORIES:Upcoming Events
END:VEVENT
BEGIN:VEVENT
DTSTART;TZID=Australia/Brisbane:20250511T063000
DTEND;TZID=Australia/Brisbane:20250511T140000
DTSTAMP:20260423T031854
CREATED:20250323T012149Z
LAST-MODIFIED:20250323T012149Z
UID:11561-1746945000-1746972000@qld.afmw.org.au
SUMMARY:2025 Mothers Day Classic (Brisbane)
DESCRIPTION:Mother’s Day Classic 2025\nSunday\, 11 May 2025 | South Bank Cultural Forecourt\nThe Queensland Medical Women’s Society is proud to support the 2025 Mother’s Day Classic\, an event that aligns with our mission to advocate for women’s health. Join us for the 2025 Mother’s Day Classic — a cherished annual event where communities unite to honour those affected by breast and ovarian cancer while raising funds for life-saving research. Since 1998\, more than 1.7 million Australians have come together to walk\, run\, and stand stronger together. \nAbout the Event: The Mother’s Day Classic was founded by Mavis Robertson AM and Louise Davidson AM\, inspired by a breast cancer fun run overseas. Supported by Women in Super\, the event has grown into a nationwide movement\, raising over $46.1 million for the National Breast Cancer Foundation (NBCF) and $1.2 million for the Ovarian Cancer Research Foundation (OCRF). \nEvent Schedule: \n\n8km Run: 6:50 AM\, 7:00 AM\, 7:10 AM\n4km Run: 7:20 AM\, 7:30 AM\n8km Walk: 7:40 AM (Embrace & Honour)\, 7:50 AM\, 8:00 AM\, 8:10 AM\n4km Walk: 8:20 AM (Embrace & Honour)\, 8:40 AM\n\nEmbrace & Honour Walks: These special walks begin with a minute of silence at the start line to embrace and honour those touched by breast or ovarian cancer. \nCourse Information: Both the 4km and 8km courses start at South Bank Parklands\, running along Stanley Street\, through the Cultural Centre tunnel\, and down Riverside Drive. The 4km course turns back at Jane Street junction\, while the 8km course turns back at Orleigh Park. \nGetting There & Parking: \n\nPublic Transport: South Bank train station (15-minute walk)\, South Bank bus station (13-minute walk)\, and South Bank ferry terminal (2-minute walk).\nParking: Available at South Bank car park on Little Stanley Street.\n\nBib Collection: Pick up your race bib at the registration desk on: \n\nSaturday\, 10 May: 10:00 AM – 2:00 PM\nSunday\, 11 May: From 6:30 AM (arrive early to avoid delays)\n\nEvent Village: Open from 6:30 AM to 11:30 AM — enjoy entertainment\, food stalls\, and a Kids Zone throughout the day. \nAccessibility: The course is wheelchair and pram-friendly. Event Village has both grassed and paved areas; refer to maps for more details. \nFood & Beverage: BYO water in reusable bottles\, and make use of available water dispensers. Coffee and food vendors will be onsite. \nDogs: Assistance dogs are permitted. \nRegister Now: Be part of this inspiring event and help make a difference. Register Here \nCome together with your community to honour\, remember\, and support those affected by breast and ovarian cancer. Let’s walk\, run\, and unite for a future free from breast and ovarian cancer.
URL:https://qld.afmw.org.au/event/2025-mothers-day-classic-brisbane/
LOCATION:Southbank City Parklands
CATEGORIES:Upcoming Events
ATTACH;FMTTYPE=image/png:https://qld.afmw.org.au/wp-content/uploads/sites/7/2025/03/17lepl0wn6.png
END:VEVENT
BEGIN:VEVENT
DTSTART;TZID=Australia/Brisbane:20250522T183000
DTEND;TZID=Australia/Brisbane:20250522T210000
DTSTAMP:20260423T031854
CREATED:20250423T100359Z
LAST-MODIFIED:20250427T223936Z
UID:11591-1747938600-1747947600@qld.afmw.org.au
SUMMARY:2025 QMWS May Dinner
DESCRIPTION:Queensland Medical Women’s Society (QMWS) invites members and guests to join us on Thursday 22nd of May 2025 for our next Dinner Meeting event. Our special guest speaker will be Dr Jeni Wellington. \n \nDate/time: Wednesday 22nd May 2025\, 6.30pm for a 7pm start\nLocation: United Services Club\nTickets: via Humanitix\nDress: Smart Casual. \nMedical Device Software Implementing AI: The Good\, the Bad\, and the Ugly of the New Wild Wild West \nAI is revolutionising the way we diagnose\, monitor\, and treat illness — but with great power comes great (regulatory) responsibility. In this dynamic talk\, Dr Jeni Wellington explores the frontier of medical device software using AI\, framing it as a new digital Wild West. She will demystify key concepts for a wide audience\, using vivid analogies (think: the dawn of email) to ensure accessibility for all. \nThrough real-world examples and frontline regulatory insight\, Jeni unpacks: \n·         The Good – when AI works: life-saving speed\, precision\, and reach. \n·         The Bad – where it fails: bias\, black-box decisions\, and poor explainability. \n·         The Ugly – security breaches\, data misuse\, and the gap in trust. \nShe’ll also walk the audience through: \n·         Why health data is more valuable than financial data \n·         How the Essential Eight cybersecurity strategies protect our systems \n·         The TGA’s evolving role in AI regulation \n·         Four take-home messages every clinician should remember when facing the AI frontier \nDr Jeni D. Wellington\nLRCPI LRCSI MB BCh BAO | IEEE Member | NCWA Health & Safety Advisor\nFuture Health Systems | AI Governance | Health Equity | Regulatory Transformation \nDr Jeni Wellington is a medical doctor\, regulatory science expert\, and digital health strategist with 15 years of experience spanning clinical practice\, policy design\, and innovation leadership. She has served as a dual clinical and technical advisor to the Australian Government’s Therapeutic Goods Administration (TGA)\, where she led the evaluation of AI-enabled medical software and contributed to national policy aligned with ISO/IEC 42001 and HL7 FHIR standards. \nShe is the founder of Annuo Med Tech and the architect of two translational education frameworks—AALB-MedEd™ and ATLM™ Gamification Theory—which empower clinicians to develop equitable\, compliant\, and patient-engaging health solutions. Her work has been recognised by UN Women Australia\, London Tech Week\, and MEDInfo\, and she is an appointed advisor to the National Council of Women Australia – Queensland branch on health and safety policy for women and girls. \nDr Wellington’s focus lies at the intersection of AI regulation\, digital public infrastructure\, and systems equity. She is committed to strengthening global digital health governance and ensuring inclusive\, safe\, and transformative technology deployment in healthcare. \nNot Yet A Member?\nMembership applications are welcome. To join QMWS\, please see our membership information and registration page. \nFurther Information\nIn the event COVID-19 restrictions prevent us meeting in person\, the meeting will proceed as an online event using Zoom.\nFor more information\, please feel free to email the QMWS Secretary.
URL:https://qld.afmw.org.au/event/2025-qmws-may-dinner/
LOCATION:United Service Club\, 183 Wickham Terrace\, Spring Hill\, Queensland\, Australia
CATEGORIES:Upcoming Events
ATTACH;FMTTYPE=image/png:https://qld.afmw.org.au/wp-content/uploads/sites/7/2025/04/Red-and-White-Modern-online-Business-Conference-poster-16-x-9-cm-16-x-9-cm-3.png
END:VEVENT
BEGIN:VEVENT
DTSTART;TZID=Australia/Brisbane:20250523T080000
DTEND;TZID=Australia/Brisbane:20250523T170000
DTSTAMP:20260423T031854
CREATED:20250323T013716Z
LAST-MODIFIED:20250323T013900Z
UID:11567-1747987200-1748019600@qld.afmw.org.au
SUMMARY:Breaking the Cycle: Preventing Fistula Worldwide
DESCRIPTION:Breaking the Cycle: Preventing Fistula Worldwide\nDate: May 23\, 2025 \nThe Queensland Medical Women’s Society (QMWS) proudly supports Breaking the Cycle: Preventing Fistula Worldwide — a global initiative dedicated to raising awareness about obstetric fistula\, a devastating childbirth injury that continues to affect thousands of women and girls each year. Caused by prolonged\, obstructed labor without access to timely\, high-quality medical care\, obstetric fistula results in chronic health issues\, social isolation\, and deepening poverty. Alarmingly\, 90% of pregnancies involving fistula end in stillbirth. \nThis year’s theme underscores the urgent need for equitable access to quality maternal healthcare\, social reintegration\, and long-term investment in strengthening health systems. QMWS is committed to amplifying awareness and advocating for the prevention and treatment of obstetric fistula\, supporting local events and activities — stay tuned for event details coming soon. \nLet’s come together to raise our voices and help break the cycle of obstetric fistula worldwide. \n\n\n\nAbout the Campaign to End Fistula\nLaunched in 2003 by the United Nations Population Fund (UNFPA) and its partners\, the global Campaign to End Fistula aims to make obstetric fistula as rare in developing countries as it is in the developed world. The campaign focuses on prevention\, surgical repair\, and the social reintegration of those affected. Despite remarkable progress\, achieving the goal of eliminating fistula by 2030 demands urgent action\, increased resources\, and strengthened collaboration across governments\, healthcare providers\, and communities. \nWhy Awareness Matters\nObstetric fistula is not just a medical condition but a stark reminder of systemic inequalities in maternal health. Prevention is possible through actions such as delaying the age of first pregnancy\, ending harmful traditional practices\, and ensuring timely access to skilled obstetric care. However\, challenges such as climate change and the COVID-19 pandemic have exacerbated healthcare disparities\, making the fight to end fistula more pressing than ever. \nDid You Know? \n\nNearly half a million women and girls worldwide live with obstetric fistula\, with thousands of new cases occurring annually.\nFor every maternal death\, 20-30 women experience childbirth injuries that drastically affect their quality of life.\nSince 2003\, over 140\,000 fistula repair surgeries have been supported by UNFPA\, and more than 12\,000 women have received social reintegration support between 2018 and 2023.\n\nBy raising awareness and advocating for change\, we can help prevent obstetric fistula\, improve access to quality maternal healthcare\, and restore dignity to those affected.
URL:https://qld.afmw.org.au/event/breaking-the-cycle-preventing-fistula-worldwide/
LOCATION:QLD
CATEGORIES:Upcoming Events
ATTACH;FMTTYPE=image/jpeg:https://qld.afmw.org.au/wp-content/uploads/sites/7/2025/03/guidance_end_obstetric_fistula.jpg
END:VEVENT
END:VCALENDAR