BEGIN:VCALENDAR
VERSION:2.0
PRODID:-//Queensland Medical Women&#039;s Society - ECPv6.15.20//NONSGML v1.0//EN
CALSCALE:GREGORIAN
METHOD:PUBLISH
X-WR-CALNAME:Queensland Medical Women&#039;s Society
X-ORIGINAL-URL:https://qld.afmw.org.au
X-WR-CALDESC:Events for Queensland Medical Women&#039;s Society
REFRESH-INTERVAL;VALUE=DURATION:PT1H
X-Robots-Tag:noindex
X-PUBLISHED-TTL:PT1H
BEGIN:VTIMEZONE
TZID:Australia/Brisbane
BEGIN:STANDARD
TZOFFSETFROM:+1000
TZOFFSETTO:+1000
TZNAME:AEST
DTSTART:20240101T000000
END:STANDARD
END:VTIMEZONE
BEGIN:VEVENT
DTSTART;TZID=Australia/Brisbane:20251117T080000
DTEND;TZID=Australia/Brisbane:20251117T170000
DTSTAMP:20260422T080105
CREATED:20250323T015549Z
LAST-MODIFIED:20250323T015549Z
UID:11575-1763366400-1763398800@qld.afmw.org.au
SUMMARY:Cervical Cancer Elimination Day of Action: Uniting for a Future Without Cervical Cancer
DESCRIPTION:Cervical Cancer Elimination Day of Action: Uniting for a Future Without Cervical Cancer\nDate: November 17\, 2025 \nThe Queensland Medical Women’s Society (QMWS) proudly joins the global movement to support the Cervical Cancer Elimination Day of Action\, commemorating the landmark launch of the World Health Organization (WHO)’s Global Strategy to Accelerate the Elimination of Cervical Cancer. This annual event unites advocates\, healthcare providers\, and communities to raise awareness and drive action towards eliminating this preventable disease. \nWhy Cervical Cancer Elimination Matters\nCervical cancer is the fourth most common cancer in women worldwide\, with an estimated 660\,000 new cases and 350\,000 deaths in 2022 alone. Almost all cases (99%) are linked to high-risk human papillomavirus (HPV) infection\, a common virus transmitted through sexual contact. Yet\, with effective prevention\, screening\, and treatment\, cervical cancer is one of the most preventable and treatable forms of cancer. \nAustralia Leading the Way\nResearch shows that Australia is on track to become the first country to eliminate cervical cancer as a public health problem by 2035\, thanks to the successful implementation of HPV vaccination and regular cervical screening programs. Since the introduction of the National Cervical Screening Program in 1991\, cervical cancer mortality rates have halved\, setting an inspiring example for global health initiatives. \nA Call to Action\nThe path to elimination requires a comprehensive approach: \n\nVaccination: Ensuring widespread access to HPV vaccination for girls and boys.\nScreening: Promoting regular cervical screening to detect and treat precancerous lesions.\nTreatment: Guaranteeing timely access to effective treatment and palliative care for women diagnosed with cervical cancer.\n\nNo woman should die from cervical cancer. By raising awareness\, supporting vaccination and screening\, and advocating for equitable healthcare access\, we can eliminate cervical cancer within a generation. \nJoin the Movement\nQMWS invites you to stand with us this November 17 as we amplify the call to action\, share knowledge\, and empower communities to make cervical cancer history. Together\, we can pave the way for a future where no woman is left behind.
URL:https://qld.afmw.org.au/event/cervical-cancer-elimination-day-of-action-uniting-for-a-future-without-cervical-cancer/
LOCATION:QLD
CATEGORIES:Upcoming Events
ATTACH;FMTTYPE=image/png:https://qld.afmw.org.au/wp-content/uploads/sites/7/2025/03/37.png
END:VEVENT
BEGIN:VEVENT
DTSTART;TZID=Australia/Brisbane:20251123T160000
DTEND;TZID=Australia/Brisbane:20251123T190000
DTSTAMP:20260422T080106
CREATED:20250815T030431Z
LAST-MODIFIED:20250929T202153Z
UID:11720-1763913600-1763924400@qld.afmw.org.au
SUMMARY:QMWS Christmas Party 2025
DESCRIPTION:Queensland Medical Women’s Society (QMWS) invites members and guests to join us on the 23rd of November 2025 for our annual Christmas Party.  \n\nDetails\n🎄✨ It’s beginning to look a lot like Christmas… QMWS style! ✨🎄 \nGet ready to swap your scrubs for sparkle and join us for an afternoon of festive fun at the 2025 Queensland Medical Women’s Society Christmas Party! We’re celebrating at Medley—a stunning riverside spot where elegance meets relaxed summer charm\, making it the perfect backdrop for our end-of-year get-together. \n📅 Date: Sunday\, 23rd November 2025🕓 Time: 4:00 PM – 7:00 PM📍 Location: Medley\, 62 Wharf Street\, Kangaroo Point\, QLD🎟 Tickets: Click here to book \nExpect bubbles\, bites\, and belly laughs as we reconnect with colleagues\, toast to 2025’s wins\, and embrace the festive season. Think delicious canapés\, refreshing drinks\, and a few delightful surprises along the way. \nWhether you’ve been naughty or nice (we won’t judge)\, you won’t want to miss this chance to celebrate in style with the incredible women of QMWS. \nSave the date\, gather your glitter\, and we’ll see you by the river! \nP.S. We’ll update this page as more details are confirmed. Questions? Email us at secretary@qmws.org.au. \n🌟 About Our Sponsor – Pavé Financial Solutions\nWe are delighted to welcome Pavé Financial Solutions as the proud sponsor of this year’s QMWS Christmas Party. \nWith over 100 years of combined expertise\, Pavé Financial Solutions experienced brokers provide tailored residential and commercial lending solutions\, working with more than 60 lenders to meet clients’ needs—from first-home buyers to business owners. Their commitment to aligning finance with short and long-term goals sets them apart. \nWe thank Pavé Financial Solutions for their generous support of QMWS and our mission to empower and connect women in medicine. \nNot Yet A Member?\nMembership applications are welcome. To join QMWS\, please see our membership information and registration page.
URL:https://qld.afmw.org.au/event/qmws-christmas-party-2025/
LOCATION:Medley Cafe\, 61 Wharf St\, Kangaroo Point\, Brisbane\, Queensland\, 4169\, Australia
CATEGORIES:Upcoming Events
ATTACH;FMTTYPE=image/png:https://qld.afmw.org.au/wp-content/uploads/sites/7/2025/08/Derek-1600x900-1.png
END:VEVENT
END:VCALENDAR