BEGIN:VCALENDAR
VERSION:2.0
PRODID:-//Queensland Medical Women&#039;s Society - ECPv5.4.0//NONSGML v1.0//EN
CALSCALE:GREGORIAN
METHOD:PUBLISH
X-WR-CALNAME:Queensland Medical Women&#039;s Society
X-ORIGINAL-URL:https://qld.afmw.org.au
X-WR-CALDESC:Events for Queensland Medical Women&#039;s Society
BEGIN:VTIMEZONE
TZID:Australia/Brisbane
BEGIN:STANDARD
TZOFFSETFROM:+1000
TZOFFSETTO:+1000
TZNAME:AEST
DTSTART:20210101T000000
END:STANDARD
END:VTIMEZONE
BEGIN:VEVENT
DTSTART;TZID=Australia/Brisbane:20210218T190000
DTEND;TZID=Australia/Brisbane:20210218T220000
DTSTAMP:20210225T132742
CREATED:20210119T225551Z
LAST-MODIFIED:20210119T225820Z
UID:8725-1613674800-1613685600@qld.afmw.org.au
SUMMARY:2021 AGM + Dinner Meeting "Post Traumatic Growth"
DESCRIPTION:Join us on Thursday\, Feb 18\, for our 2021 AGM and first Dinner Meeting for the new year. \nDownload the event flyer here. \nDate/time: Feb 18\, 7pm start.\nLocation: United Services Club\, 183 Wickham Terrace\, Spring Hill.\nTickets: Members $45\, Non-members $65\, Students $25.\nRSVP by Friday\, 12th February 2021\nDress: Smart Casual. \nRSVP here \nPlease feel free to bring a medical colleague/ friend at member’s price!  \nOur evening will be on the topic “Post Traumatic Growth” and will feature guest speaker David Roland. Mr Roland has a PhD in clinical psychology and an honorary associate with the University Centre for Rural Health at the University of Sydney. He is a founding member of Compassionate Mind Australia and author of “The Power of Suffering”. Copies of the book will be available on the evening\, along with book signing by Mr Roland.  \nOur Annual General Meeting will be conducted towards the end of the evening\, featuring:\n– President’s report: Dr Ira van der Steenstraten\n– Secretary’s report: Dr Catherine Choi\n– Treasurer’s report: Dr Natasha Abeysekera\n– Nomination and election of committee positions \nWe always welcome new committee members and encourage nomination of people who are enthusiastic and willing to be involved. If you would like any further details regarding any of the positions or the nomination form\, please contact us via email using this link.  \nTo join QMWS now as a member\, click here.   \nIn the event COVID-19 restrictions prevent us meeting in person\, the meeting will proceed as an online event using Zoom.  \nFor more information\, please feel free to email Dr Catherine Choi (QMWS Secretary) using this link.  \n Marissa Daniels (MBBS\, BMedSc)Marissa is a paediatric intensive care medicine trainee based in Brisbane.
URL:https://qld.afmw.org.au/qmws-event/2021-agm-dinner-meeting-post-traumatic-growth/
LOCATION:United Services Club\, 183 Wickham Terrace\, Brisbane\, Queensland\, Australia
CATEGORIES:Upcoming Events
ATTACH;FMTTYPE=image/jpeg:https://qld.afmw.org.au/wp-content/uploads/sites/7/2021/01/https___cdn.evbuc_.com_images_122957339_288233247480_1_original.jpeg
END:VEVENT
END:VCALENDAR